BEGIN:VCALENDAR
VERSION:2.0
PRODID:-//Unconventional Intuitive - ECPv6.15.20//NONSGML v1.0//EN
CALSCALE:GREGORIAN
METHOD:PUBLISH
X-ORIGINAL-URL:https://unconventionalintuitive.com
X-WR-CALDESC:Events for Unconventional Intuitive
REFRESH-INTERVAL;VALUE=DURATION:PT1H
X-Robots-Tag:noindex
X-PUBLISHED-TTL:PT1H
BEGIN:VTIMEZONE
TZID:America/New_York
BEGIN:DAYLIGHT
TZOFFSETFROM:-0500
TZOFFSETTO:-0400
TZNAME:EDT
DTSTART:20180311T070000
END:DAYLIGHT
BEGIN:STANDARD
TZOFFSETFROM:-0400
TZOFFSETTO:-0500
TZNAME:EST
DTSTART:20181104T060000
END:STANDARD
BEGIN:DAYLIGHT
TZOFFSETFROM:-0500
TZOFFSETTO:-0400
TZNAME:EDT
DTSTART:20190310T070000
END:DAYLIGHT
BEGIN:STANDARD
TZOFFSETFROM:-0400
TZOFFSETTO:-0500
TZNAME:EST
DTSTART:20191103T060000
END:STANDARD
BEGIN:DAYLIGHT
TZOFFSETFROM:-0500
TZOFFSETTO:-0400
TZNAME:EDT
DTSTART:20200308T070000
END:DAYLIGHT
BEGIN:STANDARD
TZOFFSETFROM:-0400
TZOFFSETTO:-0500
TZNAME:EST
DTSTART:20201101T060000
END:STANDARD
BEGIN:DAYLIGHT
TZOFFSETFROM:-0500
TZOFFSETTO:-0400
TZNAME:EDT
DTSTART:20210314T070000
END:DAYLIGHT
BEGIN:STANDARD
TZOFFSETFROM:-0400
TZOFFSETTO:-0500
TZNAME:EST
DTSTART:20211107T060000
END:STANDARD
BEGIN:DAYLIGHT
TZOFFSETFROM:-0500
TZOFFSETTO:-0400
TZNAME:EDT
DTSTART:20220313T070000
END:DAYLIGHT
BEGIN:STANDARD
TZOFFSETFROM:-0400
TZOFFSETTO:-0500
TZNAME:EST
DTSTART:20221106T060000
END:STANDARD
BEGIN:DAYLIGHT
TZOFFSETFROM:-0500
TZOFFSETTO:-0400
TZNAME:EDT
DTSTART:20230312T070000
END:DAYLIGHT
BEGIN:STANDARD
TZOFFSETFROM:-0400
TZOFFSETTO:-0500
TZNAME:EST
DTSTART:20231105T060000
END:STANDARD
BEGIN:DAYLIGHT
TZOFFSETFROM:-0500
TZOFFSETTO:-0400
TZNAME:EDT
DTSTART:20240310T070000
END:DAYLIGHT
BEGIN:STANDARD
TZOFFSETFROM:-0400
TZOFFSETTO:-0500
TZNAME:EST
DTSTART:20241103T060000
END:STANDARD
BEGIN:DAYLIGHT
TZOFFSETFROM:-0500
TZOFFSETTO:-0400
TZNAME:EDT
DTSTART:20250309T070000
END:DAYLIGHT
BEGIN:STANDARD
TZOFFSETFROM:-0400
TZOFFSETTO:-0500
TZNAME:EST
DTSTART:20251102T060000
END:STANDARD
END:VTIMEZONE
BEGIN:VEVENT
DTSTART;TZID=America/New_York:20240907T083000
DTEND;TZID=America/New_York:20240907T160000
DTSTAMP:20260423T231409
CREATED:20240808T161758Z
LAST-MODIFIED:20240808T162029Z
UID:11369-1725697800-1725724800@unconventionalintuitive.com
SUMMARY:The Wellness Well Expo
DESCRIPTION:Join us on for an unforgettable day dedicated to holistic wellness! This is your chance to discover a variety of modalities offered by 20+ featured providers to see what feels right for you. \nImmerse yourself in interactive workshops & demonstrations\, connect with health and wellness vendors\, and learn from expert holistic business owners in our community. To see the full list of practitioners and vendors click here. \nIn my presentation\, Cultivating Intuitive Wellness\, I’ll be talking about the healing power of intuition. I’ll share how finding access to mine changed my life and how you can use yours to build self-confidence\, self-trust\, and grow an unshakable sense of belonging. \nFull day tickets is $55. Your ticket includes lunch\, full access to entire day of workshops and vendors\, plus a healing sound bath at the end of the day. \nHalf day tickets available\, $35. Lunch may be added when you purchase your ticket for an additional $10.
URL:https://unconventionalintuitive.com/event/the-wellness-well-expo/
LOCATION:First Church\, 40 Monument Ave\, Swampscott\, MA\, United States
CATEGORIES:Expo or Fair
ATTACH;FMTTYPE=image/png:https://unconventionalintuitive.com/wp-content/uploads/2024/08/Untitled-design-15-1.png
END:VEVENT
BEGIN:VEVENT
DTSTART;TZID=America/New_York:20221028T190000
DTEND;TZID=America/New_York:20221028T210000
DTSTAMP:20260423T231409
CREATED:20221003T201911Z
LAST-MODIFIED:20221003T201911Z
UID:9993-1666983600-1666990800@unconventionalintuitive.com
SUMMARY:A Night of Magic Halloween Event
DESCRIPTION:  \nI \nAre you looking for a safe and fun Halloween event with all of the magical things that you love? Think seasonal activities\, intuitive readings\, energy healing\, and crystals galore! Registered guests will receive 3 ten minute sessions from their choice of a collection of talented and vetted practitioners on October 28th at A Crystal Mine in Westborough\, MA \nCall 508-827-9556 or email acrystalmine@gmail.com to register and book your sessions!!
URL:https://unconventionalintuitive.com/event/halloween-event/
LOCATION:A Crystal Mine\, 276 Turnpike Road\, Westborough\, MA\, 01581
CATEGORIES:Expo or Fair,Readings
END:VEVENT
BEGIN:VEVENT
DTSTART;TZID=America/New_York:20190928T100000
DTEND;TZID=America/New_York:20190928T170000
DTSTAMP:20260423T231409
CREATED:20190905T225501Z
LAST-MODIFIED:20190919T122501Z
UID:2305-1569664800-1569690000@unconventionalintuitive.com
SUMMARY:
DESCRIPTION:Please join us in supporting this very worthy cause by enjoying the biggest day of wellness event\, Sudbury has ever seen! \nSeveral holistic wellness practitioners are teaming up and donating their services to a day dedicated to raising financial support for Blake and his family\, in exchange for a valuable day of sampling several different forms of holistic services for YOU to enjoy! \nBlake and his family have been through more than any family should have to endure\, since he was diagnosed with osteosarcoma at the age of 14. The family needs help dealing with the aftermath of this devastating disease. They have had insurmountable and mounting medical and household bills from the past 3 years. \nNo donation is too small. They are hoping to remain in their home and schools in the wonderful town of Sudbury\, but could use some assistance from the community. \nBesides purchasing a ticket to support this event\, you could also make a donation via the Facebook page:\nhttps://www.facebook.com/donate/2455024274732188/ \nTICKETS
URL:https://unconventionalintuitive.com/event/2305/
LOCATION:EveryBody in Wellness Center\, 321A Boston Post Road\, Suite 2A\, Sudbury\, MA
CATEGORIES:Expo or Fair
END:VEVENT
END:VCALENDAR